BEGIN:VCALENDAR
VERSION:2.0
PRODID:-//WeBC - ECPv6.15.17.1//NONSGML v1.0//EN
CALSCALE:GREGORIAN
METHOD:PUBLISH
X-ORIGINAL-URL:https://staging.we-bc.ca
X-WR-CALDESC:Events for WeBC
REFRESH-INTERVAL;VALUE=DURATION:PT1H
X-Robots-Tag:noindex
X-PUBLISHED-TTL:PT1H
BEGIN:VTIMEZONE
TZID:UTC
BEGIN:STANDARD
TZOFFSETFROM:+0000
TZOFFSETTO:+0000
TZNAME:UTC
DTSTART:20220101T000000
END:STANDARD
END:VTIMEZONE
BEGIN:VEVENT
DTSTART;TZID=UTC:20230419T100000
DTEND;TZID=UTC:20230419T110000
DTSTAMP:20260423T100656
CREATED:20230323T014949Z
LAST-MODIFIED:20230323T014949Z
UID:10014058-1681898400-1681902000@staging.we-bc.ca
SUMMARY:Earth Day WeCafé: Eco-friendly Practices for Small Businesses
DESCRIPTION:If you’re inspired to make earth-friendly choices in your life or business\, educating yourself can be both inspiring and discouraging. Does one “bad” action counteract all you hard work? Do you have to sacrifice profit to make a difference? \nThe short answer is\, No! As the saying goes\, “we don’t need a handful of people doing zero waste perfectly. We need millions of people doing it imperfectly.” \nIn honour of Earth Day\, WeBC is hosting a panel of women business owners who will inspire you to be part of the collective movement towards environmentally-friendly business practices. \nIn this free\, interactive session you will: \n\nLearn small swaps that can make a big difference\nHear positive changes our panelists made that didn’t eat up their profit\nFind where you can learn more about eco-friendly choices\n\nWhether you’re starting your sustainability journey or advancing your strategies\, join us to connect with other women who are making a difference! \nFacilitator: Kelly Masson\, Business Advisor\, WeBC \nPanelists: \n\nLisa Hemingway\, Co-owner and Director of Creativity & Opportunities\, iilo Creative Alliance inc.\nUmeeda Switlo\, Naledo\nAngela Nagy\, Founder\, GreenStep Solutions\n\nOur WeCafés are always free and open to everyone! \nA recording will be available after the session. \nAbout the Panelists \nLisa Hemingway \nLisa  (she/her) is Co-owner\, Director of Creativity & Opportunities at iilo (“ee-lo”) as well as a communication designer with nearly two-decades of experience working for changemaker clients amplifying their ambitious missions with compelling design collateral.\niilo Creative Alliance inc. is a full-service creative services agency in Western Canada. We deliver communication design solutions (branding\, reports\, events\, and more) for progressive impact businesses\, nonprofits\, institutions\, social enterprises\, marketing & communications departments\, and municipalities. Our head office is located on the traditional\, ancestral and unceded territory of the Snuneymuxw & Coast Salish\, on Vancouver Island. \nUmeeda Switlo \nUmeeda has enjoyed a varied career that includes working as a marine biologist\, entrepreneur\, concert promoter and artist manager\, non-profit and international development sectors. Umeeda created Truly Turmeric and manages operations in Belize. \nAngela Nagy \nAngela is a sustainability expert with more than 20 years of experience in project management\, business development\, marketing and public relations. She has lived and traveled extensively throughout the US and Canada\, working with all levels of business\, utilities\, as well as various levels of governments\, on a variety of engineering\, energy efficiency\, environmental and sustainability related projects.\nAngela’s experience also includes politics\, and she was elected to Kelowna City Council and appointed as a Regional District Director in 2008\, the same year she co-founded GreenStep.\nShe is certified in Organizational GHG Accounting and as a Sustainability Practitioner through The Natural Step. \nRegister here >>>
URL:https://staging.we-bc.ca/event/earth-day-wecafe-eco-friendly-practices-for-small-businesses/
LOCATION:Webinar
CATEGORIES:Featured,Growing Your Business,WeBC Workshops & Events,WeCafes
ATTACH;FMTTYPE=image/png:https://staging.we-bc.ca/wp-content/uploads/2023/03/Product-Image_earthday.png
END:VEVENT
END:VCALENDAR